BEGIN:VCALENDAR
VERSION:2.0
PRODID:icalendar-ruby
CALSCALE:GREGORIAN
METHOD:PUBLISH
BEGIN:VEVENT
DTSTAMP:20260422T152618Z
UID:10-299577@deerfieldumcnj.org
DTSTART:20261025T133000Z
DTEND:20261025T143000Z
CLASS:PUBLIC
CREATED:20260422T085248
DESCRIPTION:Worship Service
LAST-MODIFIED:20260422T085248
LOCATION:Sanctuary
SUMMARY:Worship Service
URL;VALUE=URI:https://www.deerfieldumcnj.org/events/worship-service--10/202
 6-10-25
END:VEVENT
END:VCALENDAR
