BEGIN:VCALENDAR
VERSION:2.0
PRODID:icalendar-ruby
CALSCALE:GREGORIAN
METHOD:PUBLISH
BEGIN:VEVENT
DTSTAMP:20260422T125745Z
UID:10-299576@deerfieldumcnj.org
DTSTART:20261018T133000Z
DTEND:20261018T143000Z
CLASS:PUBLIC
CREATED:20260422T085248
DESCRIPTION:Worship Service
LAST-MODIFIED:20260422T085248
LOCATION:Sanctuary
SUMMARY:Worship Service
URL;VALUE=URI:https://www.deerfieldumcnj.org/events/worship-service--10/202
 6-10-18
END:VEVENT
END:VCALENDAR
