BEGIN:VCALENDAR
VERSION:2.0
PRODID:icalendar-ruby
CALSCALE:GREGORIAN
METHOD:PUBLISH
BEGIN:VEVENT
DTSTAMP:20260422T085458Z
UID:10-299536@deerfieldumcnj.org
DTSTART:20261004T133000Z
DTEND:20261004T143000Z
CLASS:PUBLIC
CREATED:20260421T214338
DESCRIPTION:Worship Service
LAST-MODIFIED:20260421T214338
LOCATION:Sanctuary
SUMMARY:Worship Service
URL;VALUE=URI:https://www.deerfieldumcnj.org/events/worship-service--10/202
 6-10-04
END:VEVENT
END:VCALENDAR
