BEGIN:VCALENDAR
VERSION:2.0
PRODID:icalendar-ruby
CALSCALE:GREGORIAN
METHOD:PUBLISH
BEGIN:VEVENT
DTSTAMP:20260422T085031Z
UID:10-299535@deerfieldumcnj.org
DTSTART:20260927T133000Z
DTEND:20260927T143000Z
CLASS:PUBLIC
CREATED:20260421T214338
DESCRIPTION:Worship Service
LAST-MODIFIED:20260421T214338
LOCATION:Sanctuary
SUMMARY:Worship Service
URL;VALUE=URI:https://www.deerfieldumcnj.org/events/worship-service--10/202
 6-09-27
END:VEVENT
END:VCALENDAR
