BEGIN:VCALENDAR
VERSION:2.0
PRODID:icalendar-ruby
CALSCALE:GREGORIAN
METHOD:PUBLISH
BEGIN:VEVENT
DTSTAMP:20260420T054315Z
UID:10-299040@deerfieldumcnj.org
DTSTART:20260920T133000Z
DTEND:20260920T143000Z
CLASS:PUBLIC
CREATED:20260420T002422
DESCRIPTION:Worship Service
LAST-MODIFIED:20260420T002422
LOCATION:Sanctuary
SUMMARY:Worship Service
URL;VALUE=URI:https://www.deerfieldumcnj.org/events/worship-service--10/202
 6-09-20
END:VEVENT
END:VCALENDAR
